BEGIN:VCALENDAR
VERSION:2.0
PRODID:-//ChamberMaster//Event Calendar 2.0//EN
METHOD:PUBLISH
X-PUBLISHED-TTL:P3D
REFRESH-INTERVAL:P3D
CALSCALE:GREGORIAN
BEGIN:VEVENT
DTSTART:20260321T160000Z
DTEND:20260321T180000Z
X-MICROSOFT-CDO-ALLDAYEVENT:FALSE
SUMMARY:Sunshine Eggstravaganza
DESCRIPTION:Sunshine Eggstravaganza\n\nAm Adaptive Egghunt
X-ALT-DESC;FMTTYPE=text/html:Sunshine Eggstravaganza<br />\nAm Adaptive Egghunt
LOCATION:Moreno Valley Conference and Recreation Center 14075 Frederick Street Moreno Valley 92553
UID:e.1843.7285
SEQUENCE:3
DTSTAMP:20260423T224532Z
URL:http://movalchamber.chambermaster.com/events/details/sunshine-eggstravaganza-7285
END:VEVENT

END:VCALENDAR
